Package: davidTiling Version: 1.49.0 Command: /home/biocbuild/bbs-3.22-bioc/R/bin/R CMD INSTALL davidTiling StartedAt: 2025-07-03 10:57:25 -0400 (Thu, 03 Jul 2025) EndedAt: 2025-07-03 10:58:15 -0400 (Thu, 03 Jul 2025) EllapsedTime: 50.0 seconds RetCode: 0 Status: OK