Package: curatedPCaData Version: 1.5.0 Command: /home/biocbuild/bbs-3.22-bioc/R/bin/R CMD INSTALL curatedPCaData StartedAt: 2025-07-10 10:59:33 -0400 (Thu, 10 Jul 2025) EndedAt: 2025-07-10 11:00:21 -0400 (Thu, 10 Jul 2025) EllapsedTime: 47.5 seconds RetCode: 0 Status: OK