Package: curatedPCaData Version: 1.5.0 Command: /home/biocbuild/bbs-3.22-bioc/R/bin/R CMD build --keep-empty-dirs --no-resave-data curatedPCaData StartedAt: 2025-07-10 11:13:13 -0400 (Thu, 10 Jul 2025) EndedAt: 2025-07-10 11:19:41 -0400 (Thu, 10 Jul 2025) EllapsedTime: 387.8 seconds RetCode: 0 Status: OK PackageFile: curatedPCaData_1.5.0.tar.gz PackageFileSize: 2.937 MiB