Package: curatedAdipoArray Version: 1.21.0 Command: /home/biocbuild/bbs-3.22-bioc/R/bin/R CMD build --keep-empty-dirs --no-resave-data curatedAdipoArray StartedAt: 2025-07-03 11:11:55 -0400 (Thu, 03 Jul 2025) EndedAt: 2025-07-03 11:12:12 -0400 (Thu, 03 Jul 2025) EllapsedTime: 17.0 seconds RetCode: 0 Status: OK PackageFile: curatedAdipoArray_1.21.0.tar.gz PackageFileSize: 36.25 KiB