Package: clustifyrdatahub Version: 1.19.0 Command: /home/biocbuild/bbs-3.22-bioc/R/bin/R CMD INSTALL clustifyrdatahub StartedAt: 2025-07-03 10:57:08 -0400 (Thu, 03 Jul 2025) EndedAt: 2025-07-03 10:57:20 -0400 (Thu, 03 Jul 2025) EllapsedTime: 12.7 seconds RetCode: 0 Status: OK