Package: chipseqDBData Version: 1.25.0 Command: /home/biocbuild/bbs-3.22-bioc/R/bin/R CMD INSTALL chipseqDBData StartedAt: 2025-07-03 11:00:36 -0400 (Thu, 03 Jul 2025) EndedAt: 2025-07-03 11:00:54 -0400 (Thu, 03 Jul 2025) EllapsedTime: 17.5 seconds RetCode: 0 Status: OK