Package: cfToolsData Version: 1.7.0 Command: /home/biocbuild/bbs-3.22-bioc/R/bin/R CMD build --keep-empty-dirs --no-resave-data cfToolsData StartedAt: 2025-07-03 11:09:44 -0400 (Thu, 03 Jul 2025) EndedAt: 2025-07-03 11:10:15 -0400 (Thu, 03 Jul 2025) EllapsedTime: 30.9 seconds RetCode: 0 Status: OK PackageFile: cfToolsData_1.7.0.tar.gz PackageFileSize: 413 KiB