Package: bsseqData Version: 0.47.0 Command: /home/biocbuild/bbs-3.22-bioc/R/bin/R CMD INSTALL bsseqData StartedAt: 2025-07-10 11:01:17 -0400 (Thu, 10 Jul 2025) EndedAt: 2025-07-10 11:02:09 -0400 (Thu, 10 Jul 2025) EllapsedTime: 52.5 seconds RetCode: 0 Status: OK