Package: bsseqData Version: 0.47.0 Command: /home/biocbuild/bbs-3.22-bioc/R/bin/R CMD build --keep-empty-dirs --no-resave-data bsseqData StartedAt: 2025-07-10 11:09:11 -0400 (Thu, 10 Jul 2025) EndedAt: 2025-07-10 11:09:20 -0400 (Thu, 10 Jul 2025) EllapsedTime: 8.5 seconds RetCode: 0 Status: OK PackageFile: bsseqData_0.47.0.tar.gz PackageFileSize: 127.7 MiB