Package: beadarrayExampleData Version: 1.47.0 Command: /home/biocbuild/bbs-3.22-bioc/R/bin/R CMD INSTALL beadarrayExampleData StartedAt: 2025-07-01 10:57:54 -0400 (Tue, 01 Jul 2025) EndedAt: 2025-07-01 10:58:04 -0400 (Tue, 01 Jul 2025) EllapsedTime: 10.0 seconds RetCode: 0 Status: OK