Package: VectraPolarisData Version: 1.13.0 Command: /home/biocbuild/bbs-3.22-bioc/R/bin/R CMD INSTALL VectraPolarisData StartedAt: 2025-07-03 11:00:19 -0400 (Thu, 03 Jul 2025) EndedAt: 2025-07-03 11:00:51 -0400 (Thu, 03 Jul 2025) EllapsedTime: 31.7 seconds RetCode: 0 Status: OK