Package: VectraPolarisData Version: 1.13.0 Command: /home/biocbuild/bbs-3.22-bioc/R/bin/R CMD build --keep-empty-dirs --no-resave-data VectraPolarisData StartedAt: 2025-07-03 11:48:24 -0400 (Thu, 03 Jul 2025) EndedAt: 2025-07-03 11:50:00 -0400 (Thu, 03 Jul 2025) EllapsedTime: 96.6 seconds RetCode: 0 Status: OK PackageFile: VectraPolarisData_1.13.0.tar.gz PackageFileSize: 794.1 KiB