Package: VariantToolsData Version: 1.33.0 Command: /home/biocbuild/bbs-3.22-bioc/R/bin/R CMD INSTALL VariantToolsData StartedAt: 2025-07-03 11:03:54 -0400 (Thu, 03 Jul 2025) EndedAt: 2025-07-03 11:04:35 -0400 (Thu, 03 Jul 2025) EllapsedTime: 40.6 seconds RetCode: 0 Status: OK