Package: VariantToolsData Version: 1.33.0 Command: /home/biocbuild/bbs-3.22-bioc/R/bin/R CMD build --keep-empty-dirs --no-resave-data VariantToolsData StartedAt: 2025-07-03 11:48:21 -0400 (Thu, 03 Jul 2025) EndedAt: 2025-07-03 11:49:16 -0400 (Thu, 03 Jul 2025) EllapsedTime: 54.1 seconds RetCode: 0 Status: OK PackageFile: VariantToolsData_1.33.0.tar.gz PackageFileSize: 200.7 MiB