Package: TargetSearchData Version: 1.47.0 Command: /home/biocbuild/bbs-3.22-bioc/R/bin/R CMD build --keep-empty-dirs --no-resave-data TargetSearchData StartedAt: 2025-07-10 11:45:09 -0400 (Thu, 10 Jul 2025) EndedAt: 2025-07-10 11:45:37 -0400 (Thu, 10 Jul 2025) EllapsedTime: 27.8 seconds RetCode: 0 Status: OK PackageFile: TargetSearchData_1.47.0.tar.gz PackageFileSize: 29.86 MiB