Package: SpatialDatasets Version: 1.7.3 Command: /home/biocbuild/bbs-3.22-bioc/R/bin/R CMD INSTALL SpatialDatasets StartedAt: 2025-07-03 10:58:21 -0400 (Thu, 03 Jul 2025) EndedAt: 2025-07-03 10:58:52 -0400 (Thu, 03 Jul 2025) EllapsedTime: 31.3 seconds RetCode: 0 Status: OK