Package: SpatialDatasets Version: 1.7.3 Command: /home/biocbuild/bbs-3.22-bioc/R/bin/R CMD build --keep-empty-dirs --no-resave-data SpatialDatasets StartedAt: 2025-07-03 11:43:50 -0400 (Thu, 03 Jul 2025) EndedAt: 2025-07-03 12:02:05 -0400 (Thu, 03 Jul 2025) EllapsedTime: 1095.1 seconds RetCode: 0 Status: OK PackageFile: SpatialDatasets_1.7.3.tar.gz PackageFileSize: 227.8 KiB