Package: SingleCellMultiModal Version: 1.21.3 Command: /home/biocbuild/bbs-3.22-bioc/R/bin/R CMD INSTALL SingleCellMultiModal StartedAt: 2025-07-03 10:59:01 -0400 (Thu, 03 Jul 2025) EndedAt: 2025-07-03 10:59:34 -0400 (Thu, 03 Jul 2025) EllapsedTime: 32.8 seconds RetCode: 0 Status: OK