Package: SingleCellMultiModal Version: 1.21.3 Command: /home/biocbuild/bbs-3.22-bioc/R/bin/R CMD build --keep-empty-dirs --no-resave-data SingleCellMultiModal StartedAt: 2025-07-03 11:43:25 -0400 (Thu, 03 Jul 2025) EndedAt: 2025-07-03 11:49:21 -0400 (Thu, 03 Jul 2025) EllapsedTime: 356.6 seconds RetCode: 0 Status: OK PackageFile: SingleCellMultiModal_1.21.3.tar.gz PackageFileSize: 2.88 MiB