Package: Single.mTEC.Transcriptomes Version: 1.37.0 Command: /home/biocbuild/bbs-3.22-bioc/R/bin/R CMD INSTALL Single.mTEC.Transcriptomes StartedAt: 2025-07-03 10:55:46 -0400 (Thu, 03 Jul 2025) EndedAt: 2025-07-03 10:55:49 -0400 (Thu, 03 Jul 2025) EllapsedTime: 2.7 seconds RetCode: 0 Status: OK