Package: SimBenchData Version: 1.17.0 Command: /home/biocbuild/bbs-3.22-bioc/R/bin/R CMD INSTALL SimBenchData StartedAt: 2025-07-03 10:57:21 -0400 (Thu, 03 Jul 2025) EndedAt: 2025-07-03 10:57:35 -0400 (Thu, 03 Jul 2025) EllapsedTime: 14.0 seconds RetCode: 0 Status: OK