Package: SimBenchData Version: 1.17.0 Command: /home/biocbuild/bbs-3.22-bioc/R/bin/R CMD build --keep-empty-dirs --no-resave-data SimBenchData StartedAt: 2025-07-03 11:43:12 -0400 (Thu, 03 Jul 2025) EndedAt: 2025-07-03 11:43:34 -0400 (Thu, 03 Jul 2025) EllapsedTime: 21.6 seconds RetCode: 0 Status: OK PackageFile: SimBenchData_1.17.0.tar.gz PackageFileSize: 236 KiB