Package: STexampleData Version: 1.17.0 Command: /home/biocbuild/bbs-3.22-bioc/R/bin/R CMD build --keep-empty-dirs --no-resave-data STexampleData StartedAt: 2025-07-03 11:44:12 -0400 (Thu, 03 Jul 2025) EndedAt: 2025-07-03 11:45:51 -0400 (Thu, 03 Jul 2025) EllapsedTime: 98.6 seconds RetCode: 0 Status: OK PackageFile: STexampleData_1.17.0.tar.gz PackageFileSize: 235.5 KiB