Package: RegParallel Version: 1.27.0 Command: /home/biocbuild/bbs-3.22-bioc/R/bin/R CMD INSTALL RegParallel StartedAt: 2025-07-03 11:04:14 -0400 (Thu, 03 Jul 2025) EndedAt: 2025-07-03 11:04:22 -0400 (Thu, 03 Jul 2025) EllapsedTime: 8.4 seconds RetCode: 0 Status: OK