Package: RegParallel Version: 1.27.0 Command: /home/biocbuild/bbs-3.22-bioc/R/bin/R CMD build --keep-empty-dirs --no-resave-data RegParallel StartedAt: 2025-07-03 11:38:09 -0400 (Thu, 03 Jul 2025) EndedAt: 2025-07-03 11:44:54 -0400 (Thu, 03 Jul 2025) EllapsedTime: 405.0 seconds RetCode: 0 Status: OK PackageFile: RegParallel_1.27.0.tar.gz PackageFileSize: 634.4 KiB