Package: RTCGA.methylation Version: 1.37.0 Command: /home/biocbuild/bbs-3.22-bioc/R/bin/R CMD INSTALL RTCGA.methylation StartedAt: 2025-07-03 11:04:22 -0400 (Thu, 03 Jul 2025) EndedAt: 2025-07-03 11:06:53 -0400 (Thu, 03 Jul 2025) EllapsedTime: 150.6 seconds RetCode: 0 Status: OK