Package: RTCGA.methylation Version: 1.37.0 Command: /home/biocbuild/bbs-3.22-bioc/R/bin/R CMD build --keep-empty-dirs --no-resave-data RTCGA.methylation StartedAt: 2025-07-03 11:39:36 -0400 (Thu, 03 Jul 2025) EndedAt: 2025-07-03 11:42:48 -0400 (Thu, 03 Jul 2025) EllapsedTime: 191.3 seconds RetCode: 0 Status: OK PackageFile: RTCGA.methylation_1.37.0.tar.gz PackageFileSize: 622.8 MiB