Package: RTCGA.PANCAN12 Version: 1.37.0 Command: /home/biocbuild/bbs-3.22-bioc/R/bin/R CMD INSTALL RTCGA.PANCAN12 StartedAt: 2025-07-10 11:04:43 -0400 (Thu, 10 Jul 2025) EndedAt: 2025-07-10 11:04:54 -0400 (Thu, 10 Jul 2025) EllapsedTime: 11.0 seconds RetCode: 0 Status: OK