Package: RNAseqData.HNRNPC.bam.chr14 Version: 0.47.0 Command: /home/biocbuild/bbs-3.22-bioc/R/bin/R CMD INSTALL RNAseqData.HNRNPC.bam.chr14 StartedAt: 2025-07-03 10:55:44 -0400 (Thu, 03 Jul 2025) EndedAt: 2025-07-03 10:55:46 -0400 (Thu, 03 Jul 2025) EllapsedTime: 2.0 seconds RetCode: 0 Status: OK