Package: ProData Version: 1.47.0 Command: /home/biocbuild/bbs-3.22-bioc/R/bin/R CMD INSTALL ProData StartedAt: 2025-07-03 10:56:07 -0400 (Thu, 03 Jul 2025) EndedAt: 2025-07-03 10:56:09 -0400 (Thu, 03 Jul 2025) EllapsedTime: 2.4 seconds RetCode: 0 Status: OK