Package: PathNetData Version: 1.45.0 Command: /home/biocbuild/bbs-3.22-bioc/R/bin/R CMD build --keep-empty-dirs --no-resave-data PathNetData StartedAt: 2025-07-03 11:35:33 -0400 (Thu, 03 Jul 2025) EndedAt: 2025-07-03 11:35:35 -0400 (Thu, 03 Jul 2025) EllapsedTime: 2.0 seconds RetCode: 0 Status: OK PackageFile: PathNetData_1.45.0.tar.gz PackageFileSize: 2.427 MiB