Package: PasillaTranscriptExpr Version: 1.37.0 Command: /home/biocbuild/bbs-3.22-bioc/R/bin/R CMD INSTALL PasillaTranscriptExpr StartedAt: 2025-07-03 10:55:23 -0400 (Thu, 03 Jul 2025) EndedAt: 2025-07-03 10:55:24 -0400 (Thu, 03 Jul 2025) EllapsedTime: 0.9 seconds RetCode: 0 Status: OK