Package: PasillaTranscriptExpr Version: 1.37.0 Command: /home/biocbuild/bbs-3.22-bioc/R/bin/R CMD build --keep-empty-dirs --no-resave-data PasillaTranscriptExpr StartedAt: 2025-07-03 11:35:28 -0400 (Thu, 03 Jul 2025) EndedAt: 2025-07-03 11:35:45 -0400 (Thu, 03 Jul 2025) EllapsedTime: 17.6 seconds RetCode: 0 Status: OK PackageFile: PasillaTranscriptExpr_1.37.0.tar.gz PackageFileSize: 783 KiB