Package: OnassisJavaLibs Version: 1.31.0 Command: /home/biocbuild/bbs-3.22-bioc/R/bin/R CMD INSTALL OnassisJavaLibs StartedAt: 2025-07-03 10:55:57 -0400 (Thu, 03 Jul 2025) EndedAt: 2025-07-03 10:55:59 -0400 (Thu, 03 Jul 2025) EllapsedTime: 2.3 seconds RetCode: 0 Status: OK