Package: NetActivityData Version: 1.11.0 Command: /home/biocbuild/bbs-3.22-bioc/R/bin/R CMD INSTALL NetActivityData StartedAt: 2025-07-03 10:55:52 -0400 (Thu, 03 Jul 2025) EndedAt: 2025-07-03 10:55:56 -0400 (Thu, 03 Jul 2025) EllapsedTime: 4.4 seconds RetCode: 0 Status: OK