Package: MicrobiomeBenchmarkData Version: 1.11.0 Command: /home/biocbuild/bbs-3.22-bioc/R/bin/R CMD INSTALL MicrobiomeBenchmarkData StartedAt: 2025-07-03 10:58:53 -0400 (Thu, 03 Jul 2025) EndedAt: 2025-07-03 10:59:25 -0400 (Thu, 03 Jul 2025) EllapsedTime: 32.2 seconds RetCode: 0 Status: OK