Package: MetaScope Version: 1.9.3 Command: /home/biocbuild/bbs-3.22-bioc/R/bin/R CMD INSTALL MetaScope StartedAt: 2025-07-03 11:01:05 -0400 (Thu, 03 Jul 2025) EndedAt: 2025-07-03 11:01:14 -0400 (Thu, 03 Jul 2025) EllapsedTime: 9.3 seconds RetCode: 0 Status: OK