Package: MetaScope Version: 1.9.3 Command: /home/biocbuild/bbs-3.22-bioc/R/bin/R CMD build --keep-empty-dirs --no-resave-data MetaScope StartedAt: 2025-07-03 11:29:59 -0400 (Thu, 03 Jul 2025) EndedAt: 2025-07-03 11:39:00 -0400 (Thu, 03 Jul 2025) EllapsedTime: 540.7 seconds RetCode: 0 Status: OK PackageFile: MetaScope_1.9.3.tar.gz PackageFileSize: 3.674 MiB