Package: MerfishData Version: 1.11.0 Command: /home/biocbuild/bbs-3.22-bioc/R/bin/R CMD build --keep-empty-dirs --no-resave-data MerfishData StartedAt: 2025-07-10 11:29:24 -0400 (Thu, 10 Jul 2025) EndedAt: 2025-07-10 11:38:01 -0400 (Thu, 10 Jul 2025) EllapsedTime: 516.6 seconds RetCode: 0 Status: OK PackageFile: MerfishData_1.11.0.tar.gz PackageFileSize: 24.11 MiB