Package: M3DExampleData Version: 1.35.0 Command: /home/biocbuild/bbs-3.22-bioc/R/bin/R CMD INSTALL M3DExampleData StartedAt: 2025-07-03 10:55:39 -0400 (Thu, 03 Jul 2025) EndedAt: 2025-07-03 10:55:41 -0400 (Thu, 03 Jul 2025) EllapsedTime: 2.0 seconds RetCode: 0 Status: OK