Package: M3DExampleData Version: 1.35.0 Command: /home/biocbuild/bbs-3.22-bioc/R/bin/R CMD build --keep-empty-dirs --no-resave-data M3DExampleData StartedAt: 2025-07-03 11:28:23 -0400 (Thu, 03 Jul 2025) EndedAt: 2025-07-03 11:28:24 -0400 (Thu, 03 Jul 2025) EllapsedTime: 1.3 seconds RetCode: 0 Status: OK PackageFile: M3DExampleData_1.35.0.tar.gz PackageFileSize: 2.05 MiB