Package: HiCDataHumanIMR90 Version: 1.29.0 Command: /home/biocbuild/bbs-3.22-bioc/R/bin/R CMD build --keep-empty-dirs --no-resave-data HiCDataHumanIMR90 StartedAt: 2025-07-03 11:24:08 -0400 (Thu, 03 Jul 2025) EndedAt: 2025-07-03 11:24:56 -0400 (Thu, 03 Jul 2025) EllapsedTime: 47.7 seconds RetCode: 0 Status: OK PackageFile: HiCDataHumanIMR90_1.29.0.tar.gz PackageFileSize: 70.64 MiB