Package: HelloRangesData Version: 1.35.0 Command: /home/biocbuild/bbs-3.22-bioc/R/bin/R CMD INSTALL HelloRangesData StartedAt: 2025-07-03 10:55:47 -0400 (Thu, 03 Jul 2025) EndedAt: 2025-07-03 10:55:48 -0400 (Thu, 03 Jul 2025) EllapsedTime: 1.4 seconds RetCode: 0 Status: OK