Package: HelloRangesData Version: 1.35.0 Command: /home/biocbuild/bbs-3.22-bioc/R/bin/R CMD build --keep-empty-dirs --no-resave-data HelloRangesData StartedAt: 2025-07-03 11:23:51 -0400 (Thu, 03 Jul 2025) EndedAt: 2025-07-03 11:24:26 -0400 (Thu, 03 Jul 2025) EllapsedTime: 34.4 seconds RetCode: 0 Status: OK PackageFile: HelloRangesData_1.35.0.tar.gz PackageFileSize: 45.73 MiB