Package: GeuvadisTranscriptExpr Version: 1.37.1 Command: /home/biocbuild/bbs-3.22-bioc/R/bin/R CMD build --keep-empty-dirs --no-resave-data GeuvadisTranscriptExpr StartedAt: 2025-07-01 11:19:58 -0400 (Tue, 01 Jul 2025) EndedAt: 2025-07-01 11:20:30 -0400 (Tue, 01 Jul 2025) EllapsedTime: 31.9 seconds RetCode: 0 Status: OK PackageFile: GeuvadisTranscriptExpr_1.37.1.tar.gz PackageFileSize: 7.2 MiB