Package: GeuvadisTranscriptExpr Version: 1.37.1 Maintainer: Malgorzata Nowicka MaintainerEmail: gosia.nowicka at uzh.ch git_url: https://git.bioconductor.org/packages/GeuvadisTranscriptExpr git_branch: devel git_last_commit: bd75e6a git_last_commit_date: 2025-06-27 12:32:52 -0400 (Fri, 27 Jun 2025)