Package: GenomicDistributionsData Version: 1.17.0 Command: /home/biocbuild/bbs-3.22-bioc/R/bin/R CMD INSTALL GenomicDistributionsData StartedAt: 2025-07-10 11:01:09 -0400 (Thu, 10 Jul 2025) EndedAt: 2025-07-10 11:01:51 -0400 (Thu, 10 Jul 2025) EllapsedTime: 42.0 seconds RetCode: 0 Status: OK