Package: FlowSorted.DLPFC.450k Version: 1.45.0 Command: /home/biocbuild/bbs-3.22-bioc/R/bin/R CMD build --keep-empty-dirs --no-resave-data FlowSorted.DLPFC.450k StartedAt: 2025-07-03 11:18:41 -0400 (Thu, 03 Jul 2025) EndedAt: 2025-07-03 11:20:00 -0400 (Thu, 03 Jul 2025) EllapsedTime: 78.8 seconds RetCode: 0 Status: OK PackageFile: FlowSorted.DLPFC.450k_1.45.0.tar.gz PackageFileSize: 123.7 MiB