Package: FlowSorted.Blood.EPIC Version: 2.13.0 Command: /home/biocbuild/bbs-3.22-bioc/R/bin/R CMD build --keep-empty-dirs --no-resave-data FlowSorted.Blood.EPIC StartedAt: 2025-07-03 11:18:18 -0400 (Thu, 03 Jul 2025) EndedAt: 2025-07-03 11:24:07 -0400 (Thu, 03 Jul 2025) EllapsedTime: 349.0 seconds RetCode: 0 Status: OK PackageFile: FlowSorted.Blood.EPIC_2.13.0.tar.gz PackageFileSize: 96.22 KiB