Package: FlowSorted.Blood.450k Version: 1.47.0 Command: /home/biocbuild/bbs-3.22-bioc/R/bin/R CMD INSTALL FlowSorted.Blood.450k StartedAt: 2025-07-03 11:01:40 -0400 (Thu, 03 Jul 2025) EndedAt: 2025-07-03 11:02:57 -0400 (Thu, 03 Jul 2025) EllapsedTime: 77.1 seconds RetCode: 0 Status: OK